BEGIN:VCALENDAR
VERSION:2.0
PRODID:-//Fachstelle Prävention – Eine Einrichtung des Vereins Arbeits- und Erziehungshilfe e.V. - ECPv6.15.20//NONSGML v1.0//EN
CALSCALE:GREGORIAN
METHOD:PUBLISH
X-ORIGINAL-URL:https://fachstelle-praevention.de
X-WR-CALDESC:Veranstaltungen für Fachstelle Prävention – Eine Einrichtung des Vereins Arbeits- und Erziehungshilfe e.V.
REFRESH-INTERVAL;VALUE=DURATION:PT1H
X-Robots-Tag:noindex
X-PUBLISHED-TTL:PT1H
BEGIN:VTIMEZONE
TZID:Europe/Berlin
BEGIN:DAYLIGHT
TZOFFSETFROM:+0100
TZOFFSETTO:+0200
TZNAME:CEST
DTSTART:20250330T010000
END:DAYLIGHT
BEGIN:STANDARD
TZOFFSETFROM:+0200
TZOFFSETTO:+0100
TZNAME:CET
DTSTART:20251026T010000
END:STANDARD
BEGIN:DAYLIGHT
TZOFFSETFROM:+0100
TZOFFSETTO:+0200
TZNAME:CEST
DTSTART:20260329T010000
END:DAYLIGHT
BEGIN:STANDARD
TZOFFSETFROM:+0200
TZOFFSETTO:+0100
TZNAME:CET
DTSTART:20261025T010000
END:STANDARD
BEGIN:DAYLIGHT
TZOFFSETFROM:+0100
TZOFFSETTO:+0200
TZNAME:CEST
DTSTART:20270328T010000
END:DAYLIGHT
BEGIN:STANDARD
TZOFFSETFROM:+0200
TZOFFSETTO:+0100
TZNAME:CET
DTSTART:20271031T010000
END:STANDARD
END:VTIMEZONE
BEGIN:VEVENT
DTSTART;TZID=Europe/Berlin:20260917T093000
DTEND;TZID=Europe/Berlin:20260917T153000
DTSTAMP:20260421T192537
CREATED:20250820T141308Z
LAST-MODIFIED:20260325T110212Z
UID:13459-1789637400-1789659000@fachstelle-praevention.de
SUMMARY:Der Grüne Koffer - Methodenschulung zur Cannabisprävention (GK2609)
DESCRIPTION:Methodenschulung Cannabisprävention für pädagogische Fachkräfte an Schulen\, Jugendhilfe und beruflicher Qualifizierung in Frankfurt a./M. \nDatum: 17.09.2026\, 09:30-15:30 Uhr \nReferierende: Janina Greschbach \nAusschreibung \nAnmeldung \nHinweis: Die Fortbildung richtet sich ausschließlich an Pädagogische Fachkräfte aus Frankfurter Einrichtungen.
URL:https://fachstelle-praevention.de/veranstaltung/der-gruene-koffer-methodenschulung-zur-cannabispraevention-gk2609/
LOCATION:Seminarraum der Fachstelle Prävention\, Brönnerstr. 11\, Frankfurt am Main\, 60313\, Germany
END:VEVENT
END:VCALENDAR