BEGIN:VCALENDAR
VERSION:2.0
PRODID:-//Fachstelle Prävention – Eine Einrichtung des Vereins Arbeits- und Erziehungshilfe e.V. - ECPv6.15.20//NONSGML v1.0//EN
CALSCALE:GREGORIAN
METHOD:PUBLISH
X-WR-CALNAME:Fachstelle Prävention – Eine Einrichtung des Vereins Arbeits- und Erziehungshilfe e.V.
X-ORIGINAL-URL:https://fachstelle-praevention.de
X-WR-CALDESC:Veranstaltungen für Fachstelle Prävention – Eine Einrichtung des Vereins Arbeits- und Erziehungshilfe e.V.
REFRESH-INTERVAL;VALUE=DURATION:PT1H
X-Robots-Tag:noindex
X-PUBLISHED-TTL:PT1H
BEGIN:VTIMEZONE
TZID:Europe/Berlin
BEGIN:DAYLIGHT
TZOFFSETFROM:+0100
TZOFFSETTO:+0200
TZNAME:CEST
DTSTART:20250330T010000
END:DAYLIGHT
BEGIN:STANDARD
TZOFFSETFROM:+0200
TZOFFSETTO:+0100
TZNAME:CET
DTSTART:20251026T010000
END:STANDARD
BEGIN:DAYLIGHT
TZOFFSETFROM:+0100
TZOFFSETTO:+0200
TZNAME:CEST
DTSTART:20260329T010000
END:DAYLIGHT
BEGIN:STANDARD
TZOFFSETFROM:+0200
TZOFFSETTO:+0100
TZNAME:CET
DTSTART:20261025T010000
END:STANDARD
BEGIN:DAYLIGHT
TZOFFSETFROM:+0100
TZOFFSETTO:+0200
TZNAME:CEST
DTSTART:20270328T010000
END:DAYLIGHT
BEGIN:STANDARD
TZOFFSETFROM:+0200
TZOFFSETTO:+0100
TZNAME:CET
DTSTART:20271031T010000
END:STANDARD
END:VTIMEZONE
BEGIN:VEVENT
DTSTART;TZID=Europe/Berlin:20260819T090000
DTEND;TZID=Europe/Berlin:20260819T170000
DTSTAMP:20260421T191808
CREATED:20250821T135839Z
LAST-MODIFIED:20260320T154450Z
UID:13490-1787130000-1787158800@fachstelle-praevention.de
SUMMARY:MOVE – "Motivierende Kurzintervention mit konsumierenden Jugendlichen in Schule und Jugendhilfe" (M2608-2/3)
DESCRIPTION:Fortbildungsangebot für pädagogische Fachkräfte an Schulen\, Jugendhilfe und beruflicher Qualifizierung in Frankfurt a./M. \nFortbildung: Theorie – Information- Praxisansätze – Interventionen (3 Termine) \nDatum:\n18.08.\, 19.08. und 25.08.2026 \nHinweis: Die Fortbildung richtet sich ausschließlich an Pädagogische Fachkräfte aus Frankfurter Einrichtungen. \nAusschreibung \nAnmeldung \n 
URL:https://fachstelle-praevention.de/veranstaltung/move-motivierende-kurzintervention-mit-konsumierenden-jugendlichen-in-schule-und-jugendhilfe-m2608-2-3/
LOCATION:Konferenzräume des vae „Etage 3“\, Karlsruher Straße 9\, Frankfurt\, 60329
END:VEVENT
END:VCALENDAR